BEGIN:VCALENDAR
VERSION:2.0
PRODID:-//AILC • American Indian Law Center, Inc. - ECPv6.15.17.1//NONSGML v1.0//EN
CALSCALE:GREGORIAN
METHOD:PUBLISH
X-WR-CALNAME:AILC • American Indian Law Center, Inc.
X-ORIGINAL-URL:https://www.ailc-inc.org
X-WR-CALDESC:Events for AILC • American Indian Law Center, Inc.
REFRESH-INTERVAL;VALUE=DURATION:PT1H
X-Robots-Tag:noindex
X-PUBLISHED-TTL:PT1H
BEGIN:VTIMEZONE
TZID:America/Denver
BEGIN:DAYLIGHT
TZOFFSETFROM:-0700
TZOFFSETTO:-0600
TZNAME:MDT
DTSTART:20250309T090000
END:DAYLIGHT
BEGIN:STANDARD
TZOFFSETFROM:-0600
TZOFFSETTO:-0700
TZNAME:MST
DTSTART:20251102T080000
END:STANDARD
BEGIN:DAYLIGHT
TZOFFSETFROM:-0700
TZOFFSETTO:-0600
TZNAME:MDT
DTSTART:20260308T090000
END:DAYLIGHT
BEGIN:STANDARD
TZOFFSETFROM:-0600
TZOFFSETTO:-0700
TZNAME:MST
DTSTART:20261101T080000
END:STANDARD
BEGIN:DAYLIGHT
TZOFFSETFROM:-0700
TZOFFSETTO:-0600
TZNAME:MDT
DTSTART:20270314T090000
END:DAYLIGHT
BEGIN:STANDARD
TZOFFSETFROM:-0600
TZOFFSETTO:-0700
TZNAME:MST
DTSTART:20271107T080000
END:STANDARD
END:VTIMEZONE
BEGIN:VEVENT
DTSTART;TZID=America/Denver:20260529T120000
DTEND;TZID=America/Denver:20260529T140000
DTSTAMP:20260419T101837
CREATED:20260407T152956Z
LAST-MODIFIED:20260407T155206Z
UID:987497025-1780056000-1780063200@www.ailc-inc.org
SUMMARY:PLSI Class of 1976\, 1996\, 2006\, 2016 Class Reunion
DESCRIPTION:Meet and reminisce with your friends and classmates as you welcome in the Class of 2026 to the Pre-Law Summer Institute! \nJoin us Friday\, May 29\, 2026 from 12-2pm at the UNM School of Law Forum. Register below! \nRegistration\nMeet and reminisce with your friends and classmates as you welcome in the Class of 2026 to the Pre-Law Summer Institute! \n\nContribute to the Welcome Lunch or have your firm or organization sponsor the lunch.  Opportunities for micro-keynotes to welcome the class\, offer advice\, and encourage this next generation of Native attorneys.\n\nJoin us Friday\, May 29\, 2026\, 9:00 am - 12:00 pm (orientation and micro-keynotes) and 12:00 - 1:30 pm (lunch) at the UNM School of Law Forum.Please enable JavaScript in your browser to complete this form.Name *FirstLastEmail *PLSI Year or N/ATitleOrganizationBar JurisdictionAlabamaAlaskaArizonaArkansasCaliforniaColoradoConnecticutDelawareDistrict of ColumbiaFloridaGeorgiaHawaiiIdahoIllinoisIndianaIowaKansasKentuckyLouisianaMaineMarylandMassachusettsMichiganMinnesotaMississippiMissouriMontanaNebraskaNevadaNew HampshireNew JerseyNew MexicoNew YorkNorth CarolinaNorth DakotaOhioOklahomaOregonPennsylvaniaRhode IslandSouth CarolinaSouth DakotaTennesseeTexasUtahVermontVirginiaWashingtonWest VirginiaWisconsinWyomingTribal Jurisdiction(s)Any/all tribal court jurisdictions you practice inAdd another State Jurisdiction?YesNoSecond Bar JurisdictionAlabamaAlaskaArizonaArkansasCaliforniaColoradoConnecticutDelawareDistrict of ColumbiaFloridaGeorgiaHawaiiIdahoIllinoisIndianaIowaKansasKentuckyLouisianaMaineMarylandMassachusettsMichiganMinnesotaMississippiMissouriMontanaNebraskaNevadaNew HampshireNew JerseyNew MexicoNew YorkNorth CarolinaNorth DakotaOhioOklahomaOregonPennsylvaniaRhode IslandSouth CarolinaSouth DakotaTennesseeTexasUtahVermontVirginiaWashingtonWest VirginiaWisconsinWyomingAdd a third Jurisdiction? YesNoAdditional Bar JurisdictionAlabamaAlaskaArizonaArkansasCaliforniaColoradoConnecticutDelawareDistrict of ColumbiaFloridaGeorgiaHawaiiIdahoIllinoisIndianaIowaKansasKentuckyLouisianaMaineMarylandMassachusettsMichiganMinnesotaMississippiMissouriMontanaNebraskaNevadaNew HampshireNew JerseyNew MexicoNew YorkNorth CarolinaNorth DakotaOhioOklahomaOregonPennsylvaniaRhode IslandSouth CarolinaSouth DakotaTennesseeTexasUtahVermontVirginiaWashingtonWest VirginiaWisconsinWyomingTribal AffiliationAILC would love to hear updates about where the class of 1996 is now. Feel free to submit a headshot and bio or general statement.\nHeadshot\n	\n		\n			\n		\n\n		\n							Drag & Drop Files\, 				Choose Files to Upload\n					\n\n			\n\n\n\nBio or StatementCan we share your bio\, statement and/or photo with your classmates?  *YesNoWould you like to share a message with the incoming PLSI class of 2026? Photography/Videography Disclosure *A photographer and staff may take photos and videos of participants during the conference. These materials are for AILC use and may appear in digital and print materials like our website\, brochures\, reports and publications. I agree that my completed registration form and attendance constitutes my consent to photography/ videography and subsequent usage without compensation to you.		\n			\n			\n				\n		Register  \nPLSI Class of 1996\n \nPLSI Class of 2006\n \nPLSI Class of 2016
URL:https://www.ailc-inc.org/event/plsi-class-of-1976-1996-2006-2016-class-reunion/
ATTACH;FMTTYPE=image/jpeg:https://www.ailc-inc.org/wp-content/uploads/e1d36a0c72ec41e494ba25d8e1ebc53d-scaled.jpg
ORGANIZER;CN="American Indian Law Center":MAILTO:ailcinfo@law.unm.edu
END:VEVENT
END:VCALENDAR