BEGIN:VCALENDAR
VERSION:2.0
PRODID:-//AILC • American Indian Law Center, Inc. - ECPv6.15.17.1//NONSGML v1.0//EN
CALSCALE:GREGORIAN
METHOD:PUBLISH
X-WR-CALNAME:AILC • American Indian Law Center, Inc.
X-ORIGINAL-URL:https://www.ailc-inc.org
X-WR-CALDESC:Events for AILC • American Indian Law Center, Inc.
REFRESH-INTERVAL;VALUE=DURATION:PT1H
X-Robots-Tag:noindex
X-PUBLISHED-TTL:PT1H
BEGIN:VTIMEZONE
TZID:America/Denver
BEGIN:DAYLIGHT
TZOFFSETFROM:-0700
TZOFFSETTO:-0600
TZNAME:MDT
DTSTART:20250309T090000
END:DAYLIGHT
BEGIN:STANDARD
TZOFFSETFROM:-0600
TZOFFSETTO:-0700
TZNAME:MST
DTSTART:20251102T080000
END:STANDARD
BEGIN:DAYLIGHT
TZOFFSETFROM:-0700
TZOFFSETTO:-0600
TZNAME:MDT
DTSTART:20260308T090000
END:DAYLIGHT
BEGIN:STANDARD
TZOFFSETFROM:-0600
TZOFFSETTO:-0700
TZNAME:MST
DTSTART:20261101T080000
END:STANDARD
BEGIN:DAYLIGHT
TZOFFSETFROM:-0700
TZOFFSETTO:-0600
TZNAME:MDT
DTSTART:20270314T090000
END:DAYLIGHT
BEGIN:STANDARD
TZOFFSETFROM:-0600
TZOFFSETTO:-0700
TZNAME:MST
DTSTART:20271107T080000
END:STANDARD
END:VTIMEZONE
BEGIN:VEVENT
DTSTART;VALUE=DATE:20260114
DTEND;VALUE=DATE:20260322
DTSTAMP:20260419T192023
CREATED:20260106T165943Z
LAST-MODIFIED:20260106T170008Z
UID:987496782-1768348800-1774137599@www.ailc-inc.org
SUMMARY:2026 PLSI Applications Open
DESCRIPTION:You must complete the online application and submit all required documents by the deadline of Friday\, March 13\, 2026.  If your application is completed by February 13\, we will communicate with you by March 18\, 2026.  We will make all admission decisions by April 24\, 2026. Please gather all of your application information and documentation prior to submitting. See below for a list of these materials.  The portal will open on January 14\, 2026.  Apply early!
URL:https://www.ailc-inc.org/event/plsi-applications-open/
LOCATION:Virtual
CATEGORIES:PLSI
ORGANIZER;CN="American Indian Law Center":MAILTO:ailcinfo@law.unm.edu
END:VEVENT
END:VCALENDAR