BEGIN:VCALENDAR
VERSION:2.0
PRODID:-//AILC • American Indian Law Center, Inc. - ECPv6.15.17.1//NONSGML v1.0//EN
CALSCALE:GREGORIAN
METHOD:PUBLISH
X-WR-CALNAME:AILC • American Indian Law Center, Inc.
X-ORIGINAL-URL:https://www.ailc-inc.org
X-WR-CALDESC:Events for AILC • American Indian Law Center, Inc.
REFRESH-INTERVAL;VALUE=DURATION:PT1H
X-Robots-Tag:noindex
X-PUBLISHED-TTL:PT1H
BEGIN:VTIMEZONE
TZID:America/Denver
BEGIN:DAYLIGHT
TZOFFSETFROM:-0700
TZOFFSETTO:-0600
TZNAME:MDT
DTSTART:20240310T090000
END:DAYLIGHT
BEGIN:STANDARD
TZOFFSETFROM:-0600
TZOFFSETTO:-0700
TZNAME:MST
DTSTART:20241103T080000
END:STANDARD
BEGIN:DAYLIGHT
TZOFFSETFROM:-0700
TZOFFSETTO:-0600
TZNAME:MDT
DTSTART:20250309T090000
END:DAYLIGHT
BEGIN:STANDARD
TZOFFSETFROM:-0600
TZOFFSETTO:-0700
TZNAME:MST
DTSTART:20251102T080000
END:STANDARD
BEGIN:DAYLIGHT
TZOFFSETFROM:-0700
TZOFFSETTO:-0600
TZNAME:MDT
DTSTART:20260308T090000
END:DAYLIGHT
BEGIN:STANDARD
TZOFFSETFROM:-0600
TZOFFSETTO:-0700
TZNAME:MST
DTSTART:20261101T080000
END:STANDARD
END:VTIMEZONE
BEGIN:VEVENT
DTSTART;TZID=America/Denver:20250313T180000
DTEND;TZID=America/Denver:20250313T193000
DTSTAMP:20260420T113616
CREATED:20250124T192228Z
LAST-MODIFIED:20250228T175118Z
UID:987496054-1741888800-1741894200@www.ailc-inc.org
SUMMARY:Bar Exam Prep Webinar
DESCRIPTION:2025 Bar Exam Tips & Alerts from the Tutor Bar Exam Tips & Alerts from the Tutor: How to set yourself up for success and avoid the pitfalls of bar study \n\nMarch 13\, 2025 | 6pm MT \n\nEvent Speaker: Mary Goza\, AILC Consultant (passed 8 bar exams)Please enable JavaScript in your browser to complete this form.\nName *FirstLastEmail *Tribal Affiliation *Law School *Please spell the name of the institution without acronyms. PLSI Year (if applicable) Year Attended197019711972197319741975197619771978197919801981198219831984198519861987198819891990199119921993199419951996199719981999200020012002200320042005200620072008200920102011201220132014201520162017201820192020202120222023202420252026Bar JurisdictionAlabamaAlaskaArizonaArkansasCaliforniaColoradoConnecticutDelawareDistrict of ColumbiaFloridaGeorgiaHawaiiIdahoIllinoisIndianaIowaKansasKentuckyLouisianaMaineMarylandMassachusettsMichiganMinnesotaMississippiMissouriMontanaNebraskaNevadaNew HampshireNew JerseyNew MexicoNew YorkNorth CarolinaNorth DakotaOhioOklahomaOregonPennsylvaniaRhode IslandSouth CarolinaSouth DakotaTennesseeTexasUtahVermontVirginiaWashingtonWest VirginiaWisconsinWyomingLaw School Graduation Year *Year1970197119721973197419751976197719781979198019811982198319841985198619871988198919901991199219931994199519961997199819992000200120022003200420052006200720082009201020112012201320142015201620172018201920202021202220232024202520262027NNALSA Member? YesNoPlease Add 1-2 Questions for the Presenter		\n			\n			\n				\n		Submit
URL:https://www.ailc-inc.org/event/bar-exam-prep-webinar/
LOCATION:Virtual
CATEGORIES:Current Law Students
ORGANIZER;CN="American Indian Law Center":MAILTO:ailcinfo@law.unm.edu
END:VEVENT
BEGIN:VEVENT
DTSTART;VALUE=DATE:20250308
DTEND;VALUE=DATE:20250312
DTSTAMP:20260420T113616
CREATED:20250124T191938Z
LAST-MODIFIED:20250124T194852Z
UID:987496051-1741392000-1741737599@www.ailc-inc.org
SUMMARY:AIHEC Student Conference
DESCRIPTION:
URL:https://www.ailc-inc.org/event/aihec-student-conference/
LOCATION:Rapid City\, SD\, Rapid City\, SD\, United States
CATEGORIES:Current Law Students
END:VEVENT
BEGIN:VEVENT
DTSTART;VALUE=DATE:20250214
DTEND;VALUE=DATE:20250216
DTSTAMP:20260420T113616
CREATED:20250124T184300Z
LAST-MODIFIED:20250124T204552Z
UID:987496042-1739491200-1739663999@www.ailc-inc.org
SUMMARY:2025 NNALSA Moot Court - AILC Professional Development Workshops
DESCRIPTION:AILC is hosting professional development workshops at the 33rd National NALSA Moot Court Competition at the The William S. Boyd School of Law at UNLV in Las Vegas. \nTravel Reimbursements are available to students who register and attend the AILC Professional Development Workshops.  Please review the travel reimbursement guidelines before registering for the workshops. Registration closes on February 1st\, 2025 at 11:59pm MST.
URL:https://www.ailc-inc.org/event/2025-nnalsa-moot-court-ailc-professional-development-workshops/
LOCATION:UNLV William S. Boyd School of Law\, 4505 S Maryland Pkwy\, Las Vegas\, Nevada\, 89154\, United States
CATEGORIES:Current Law Students,PLSI,Professional Development
ORGANIZER;CN="American Indian Law Center":MAILTO:ailcinfo@law.unm.edu
END:VEVENT
BEGIN:VEVENT
DTSTART;VALUE=DATE:20250214
DTEND;VALUE=DATE:20250215
DTSTAMP:20260420T113616
CREATED:20250124T185404Z
LAST-MODIFIED:20250124T194835Z
UID:987496047-1739491200-1739577599@www.ailc-inc.org
SUMMARY:PLSI 2025 Early Application Deadline
DESCRIPTION:You must complete the online application and submit all required documents by the deadline of Friday\, March 14\, 2025.  However\, if your application is completed by February 14\, we will communicate with you by March 18\, 2025.
URL:https://www.ailc-inc.org/event/plsi-2025-early-application-deadline/
CATEGORIES:PLSI
ORGANIZER;CN="American Indian Law Center":MAILTO:ailcinfo@law.unm.edu
END:VEVENT
BEGIN:VEVENT
DTSTART;VALUE=DATE:20250130
DTEND;VALUE=DATE:20250202
DTSTAMP:20260420T113616
CREATED:20250124T185001Z
LAST-MODIFIED:20250124T194901Z
UID:987496044-1738195200-1738454399@www.ailc-inc.org
SUMMARY:PLSI Judicial Clerkship Workshops
DESCRIPTION:AILC will host Judicial Clerkship Workshops at the The 2025 Judicial Clerkship Program\, in conjunction with the ABA Midyear Meeting.
URL:https://www.ailc-inc.org/event/plsi-judicial-clerkship-workshops/
LOCATION:Phoenix\, AZ\, Phoenix\, AZ\, United States
CATEGORIES:Current Law Students,Judicial Clerkship Program
ORGANIZER;CN="American Indian Law Center":MAILTO:ailcinfo@law.unm.edu
END:VEVENT
END:VCALENDAR